BEGIN:VCALENDAR
VERSION:2.0
PRODID:-//GRÜNE Winterthur - ECPv6.15.15//NONSGML v1.0//EN
CALSCALE:GREGORIAN
METHOD:PUBLISH
X-WR-CALNAME:GRÜNE Winterthur
X-ORIGINAL-URL:https://gruene-winterthur.ch
X-WR-CALDESC:Veranstaltungen für GRÜNE Winterthur
REFRESH-INTERVAL;VALUE=DURATION:PT1H
X-Robots-Tag:noindex
X-PUBLISHED-TTL:PT1H
BEGIN:VTIMEZONE
TZID:Europe/Zurich
BEGIN:DAYLIGHT
TZOFFSETFROM:+0100
TZOFFSETTO:+0200
TZNAME:CEST
DTSTART:20250330T010000
END:DAYLIGHT
BEGIN:STANDARD
TZOFFSETFROM:+0200
TZOFFSETTO:+0100
TZNAME:CET
DTSTART:20251026T010000
END:STANDARD
BEGIN:DAYLIGHT
TZOFFSETFROM:+0100
TZOFFSETTO:+0200
TZNAME:CEST
DTSTART:20260329T010000
END:DAYLIGHT
BEGIN:STANDARD
TZOFFSETFROM:+0200
TZOFFSETTO:+0100
TZNAME:CET
DTSTART:20261025T010000
END:STANDARD
BEGIN:DAYLIGHT
TZOFFSETFROM:+0100
TZOFFSETTO:+0200
TZNAME:CEST
DTSTART:20270328T010000
END:DAYLIGHT
BEGIN:STANDARD
TZOFFSETFROM:+0200
TZOFFSETTO:+0100
TZNAME:CET
DTSTART:20271031T010000
END:STANDARD
END:VTIMEZONE
BEGIN:VEVENT
DTSTART;TZID=Europe/Zurich:20260509T073000
DTEND;TZID=Europe/Zurich:20260509T223000
DTSTAMP:20260425T171127
CREATED:20251123T062201Z
LAST-MODIFIED:20260424T075053Z
UID:1924-1778311800-1778365800@gruene-winterthur.ch
SUMMARY:GRÜNE Wanderung
DESCRIPTION:
URL:https://gruene-winterthur.ch/event/gruene-wanderung
CATEGORIES:Veranstaltungen
END:VEVENT
END:VCALENDAR