BEGIN:VCALENDAR
VERSION:2.0
PRODID:-//GRÜNE Winterthur - ECPv6.15.15//NONSGML v1.0//EN
CALSCALE:GREGORIAN
METHOD:PUBLISH
X-WR-CALNAME:GRÜNE Winterthur
X-ORIGINAL-URL:https://gruene-winterthur.ch
X-WR-CALDESC:Veranstaltungen für GRÜNE Winterthur
REFRESH-INTERVAL;VALUE=DURATION:PT1H
X-Robots-Tag:noindex
X-PUBLISHED-TTL:PT1H
BEGIN:VTIMEZONE
TZID:Europe/Zurich
BEGIN:DAYLIGHT
TZOFFSETFROM:+0100
TZOFFSETTO:+0200
TZNAME:CEST
DTSTART:20240331T010000
END:DAYLIGHT
BEGIN:STANDARD
TZOFFSETFROM:+0200
TZOFFSETTO:+0100
TZNAME:CET
DTSTART:20241027T010000
END:STANDARD
BEGIN:DAYLIGHT
TZOFFSETFROM:+0100
TZOFFSETTO:+0200
TZNAME:CEST
DTSTART:20250330T010000
END:DAYLIGHT
BEGIN:STANDARD
TZOFFSETFROM:+0200
TZOFFSETTO:+0100
TZNAME:CET
DTSTART:20251026T010000
END:STANDARD
BEGIN:DAYLIGHT
TZOFFSETFROM:+0100
TZOFFSETTO:+0200
TZNAME:CEST
DTSTART:20260329T010000
END:DAYLIGHT
BEGIN:STANDARD
TZOFFSETFROM:+0200
TZOFFSETTO:+0100
TZNAME:CET
DTSTART:20261025T010000
END:STANDARD
END:VTIMEZONE
BEGIN:VEVENT
DTSTART;TZID=Europe/Zurich:20250614T153000
DTEND;TZID=Europe/Zurich:20250614T235500
DTSTAMP:20260421T102654
CREATED:20250214T205958Z
LAST-MODIFIED:20250214T210135Z
UID:1406-1749915000-1749945300@gruene-winterthur.ch
SUMMARY:Jubiläum 40 Jahre GRÜNE Winterthur
DESCRIPTION:
URL:https://gruene-winterthur.ch/event/jubilaeum-40-jahre-gruene-winterthur
LOCATION:Restaurant Eulachstrand\, Läbesruum\, Pflanzschulstrasse 17\, Winterthur\, 8400\, Switzerland
CATEGORIES:Gemeinschaft,Veranstaltungen
END:VEVENT
END:VCALENDAR